BEGIN:VCALENDAR
VERSION:2.0
PRODID:-//Episcopal Diocese of West Tennessee - ECPv6.15.17//NONSGML v1.0//EN
CALSCALE:GREGORIAN
METHOD:PUBLISH
X-ORIGINAL-URL:https://edwtn.org
X-WR-CALDESC:Events for Episcopal Diocese of West Tennessee
REFRESH-INTERVAL;VALUE=DURATION:PT1H
X-Robots-Tag:noindex
X-PUBLISHED-TTL:PT1H
BEGIN:VTIMEZONE
TZID:America/Chicago
BEGIN:DAYLIGHT
TZOFFSETFROM:-0600
TZOFFSETTO:-0500
TZNAME:CDT
DTSTART:20250309T080000
END:DAYLIGHT
BEGIN:STANDARD
TZOFFSETFROM:-0500
TZOFFSETTO:-0600
TZNAME:CST
DTSTART:20251102T070000
END:STANDARD
BEGIN:DAYLIGHT
TZOFFSETFROM:-0600
TZOFFSETTO:-0500
TZNAME:CDT
DTSTART:20260308T080000
END:DAYLIGHT
BEGIN:STANDARD
TZOFFSETFROM:-0500
TZOFFSETTO:-0600
TZNAME:CST
DTSTART:20261101T070000
END:STANDARD
BEGIN:DAYLIGHT
TZOFFSETFROM:-0600
TZOFFSETTO:-0500
TZNAME:CDT
DTSTART:20270314T080000
END:DAYLIGHT
BEGIN:STANDARD
TZOFFSETFROM:-0500
TZOFFSETTO:-0600
TZNAME:CST
DTSTART:20271107T070000
END:STANDARD
END:VTIMEZONE
BEGIN:VEVENT
DTSTART;TZID=America/Chicago:20260421T183000
DTEND;TZID=America/Chicago:20260421T200000
DTSTAMP:20260422T025456
CREATED:20260220T213454Z
LAST-MODIFIED:20260402T151019Z
UID:10220149-1776796200-1776801600@edwtn.org
SUMMARY:Summit on the Power of Love with Bishop Michael Curry
DESCRIPTION:Get ready to feel inspired and uplifted as Bishop Michael Curry shares powerful stories about the power of Love. \n\n\n\n\nJoin us at Crosstown Theater (1350 Concourse Ave.) for Summit on the Power of Love\, an unforgettable evening featuring a keynote address from Bishop Michael Curry\, former Presiding Bishop of The Episcopal Church. The night will include refreshments\, a powerful joint choir led by Dr. Patrick Scott of Grace–St. Luke’s Episcopal Church\, and music by the Memphis Jazz Workshop. \nHere’s what you need to know: \n\nDoors open at 6 p.m. Bring your books for Bishop Curry to sign\, or purchase copies onsite from The Episcopal Bookshop.\nA musical prelude begins at 6:30 p.m.\nThe program starts promptly at 7 p.m.\n\nTheater seating is general admission\, so plan to arrive early to claim a great seat. \nTickets are free\, but registration is required—and space is very limited. The first 50 registered attendees to arrive will receive a $10 gift card to Crosstown Concourse (limit one per household; must be present to receive). \nCome early. Bring a friend. Expect to leave encouraged. \nPresented by The Episcopal Diocese of West Tennessee. \n\n\nReserve Tickets\n  \nABOUT BISHOP MICHAEL CURRY\nThe Rt. Rev. Michael Bruce Curry served as the 27th presiding bishop and primate of The Episcopal Church. At the church’s 78th General Convention in June 2015\, he was elected to a nine-year term in this role and installed in November of that year. Throughout his ministry\, Bishop Curry has been a prophetic leader\, particularly in the areas of racial reconciliation\, climate change\, evangelism\, immigration policy\, and marriage equality. The animating vision and message of his ministry is Jesus of Nazareth and his way of radical\, sacrificial love\, and he regularly reminds Episcopalians they are “the Episcopal branch of the Jesus Movement.” Bishop Curry was ordained a priest in 1978 and served parishes in North Carolina\, Ohio\, and Maryland until his 2000 election as bishop of the Episcopal Diocese of North Carolina. He graduated with high honors from Hobart and William Smith Colleges and earned his Master of Divinity degree from Yale University. Bishop Curry is the author of five books and a regular guest on national and international media outlets. He retired in 2024.
URL:https://edwtn.org/event/summit-on-the-power-of-love-with-bishop-michael-curry/
LOCATION:Crosstown Concourse\, 1350 Concourse Ave.\, Memphis\, TN\, 38104\, United States
CATEGORIES:Community
ATTACH;FMTTYPE=image/png:https://edwtn.org/wp-content/uploads/2026/02/Curry-Event-4.5.png
ORGANIZER;CN="The Episcopal Diocese of West Tennessee":MAILTO:diocese@episwtn.org
END:VEVENT
END:VCALENDAR